BEGIN:VCALENDAR
VERSION:2.0
PRODID:-//Wydawnictwo Lukas Frankenstein - ECPv6.15.20//NONSGML v1.0//EN
CALSCALE:GREGORIAN
METHOD:PUBLISH
X-WR-CALNAME:Wydawnictwo Lukas Frankenstein
X-ORIGINAL-URL:https://www.lukasfrankenstein.com
X-WR-CALDESC:Wydarzenia dla Wydawnictwo Lukas Frankenstein
REFRESH-INTERVAL;VALUE=DURATION:PT1H
X-Robots-Tag:noindex
X-PUBLISHED-TTL:PT1H
BEGIN:VTIMEZONE
TZID:Europe/Amsterdam
BEGIN:DAYLIGHT
TZOFFSETFROM:+0100
TZOFFSETTO:+0200
TZNAME:CEST
DTSTART:20240331T010000
END:DAYLIGHT
BEGIN:STANDARD
TZOFFSETFROM:+0200
TZOFFSETTO:+0100
TZNAME:CET
DTSTART:20241027T010000
END:STANDARD
BEGIN:DAYLIGHT
TZOFFSETFROM:+0100
TZOFFSETTO:+0200
TZNAME:CEST
DTSTART:20250330T010000
END:DAYLIGHT
BEGIN:STANDARD
TZOFFSETFROM:+0200
TZOFFSETTO:+0100
TZNAME:CET
DTSTART:20251026T010000
END:STANDARD
BEGIN:DAYLIGHT
TZOFFSETFROM:+0100
TZOFFSETTO:+0200
TZNAME:CEST
DTSTART:20260329T010000
END:DAYLIGHT
BEGIN:STANDARD
TZOFFSETFROM:+0200
TZOFFSETTO:+0100
TZNAME:CET
DTSTART:20261025T010000
END:STANDARD
END:VTIMEZONE
BEGIN:VEVENT
DTSTART;TZID=Europe/Amsterdam:20250904T200000
DTEND;TZID=Europe/Amsterdam:20250904T210000
DTSTAMP:20260424T052550
CREATED:20250831T145647Z
LAST-MODIFIED:20250831T150507Z
UID:17395-1757016000-1757019600@www.lukasfrankenstein.com
SUMMARY:#22 Audycja: Innowacyjne Wynalazki
DESCRIPTION:💡Newsy ze świata innowacyjnych wynalazków\, odkryć\, wizji naukowych i inne ciekawostki. \n🔸Kiedy: w każdy czwartek \n🔸O której: 20:00 \, czas EU – Amsterdam \n🔸Gdzie:  \n🔴 YouTube: Okiem pisarza\, \n⚫️ TikTok: Lukas Przelaskowski \n🔵 Facebook: Innowacyjne Wynalazki \n🟣 Twitch.TV: Lukas Przelaskowski \n🟡 Linkedin: Lukas Przelaskowski \n🟢 Kick: Lukas Przelaskowski \n🟠 Instagram: LukasPrzelaskowski.pisarz \n⚪️ Rumble: Przelaskowski \n\n⭐️ Cel projektu: Otwarcie Radia Online Lukas Frankenstein\, w którym pojawi się m.in. taka audycja.\n  \n❤️ Możesz pomóc wesprzeć cel poprzez m.in.: \n💰 1. Wpłatę na zrzutkę 4Fund.com\, gdzie możesz wybrać opcję pobrania jednego z trzech e-booków. \n☕️ 2.Postawienie kawy pobierając jednocześnie e-booka: Buy Me A Coffee \n📚 3. Zakup książki\, e-booka lub innego produktu ze sklepiku wydawnictwa Lukas Frankenstein: Lukas Frankenstein \n📲 4. Subskrypcji odpłatnej TikToka: Lukas Przelaskowski  \n🎬 5. Wsparcia odpłatnego YouTube: Okiem pisarza ( przycisk WESPRZYJ dostępny na dole pod każdym filmem). \n  \n🤝 Projekt pod patronem firmy: Lukas Frankenstein \n⚠️Pozostałe projekty\, których stopniowo będzie przybywać i najlepsze znajdą się w ramówce przyszłego radia online firmy Lukas Frankenstein\, ich opis\, dni kiedy są realizowane znajdziesz w Kalendarzu Wydarzeń📲 \n👍 💚 Zapraszam do dodatkowego wsparcia poprzez obserwacje\, subskrypcje\, polubienia\, udostępnienia na waszych SM oraz znajomym na Messengerze\, WhatsAppie i innych komunikatorach\, kulturalne komentarze zawsze mile widziane.  \n  \n🤠 Z góry dziękuję i pozdrawiam Łukasz Przelaskowski – właściciel firmy Lukas Frankenstein\, niezależny dziennikarz. \n🤔 Więcej o mnie: Biografia \n  \n🤝 Wsparcie:  @ZrzutkaPl  @4fundcom  @BuyMeaCoffee 🎙️ \n  \nNowość w streamingu lub chcesz przejść na wyższy poziom? Sprawdź StreamYard i zdobądź 10$ zniżki!😍  @StreamYard
URL:https://www.lukasfrankenstein.com/event/22-audycja-innowacyjne-wynalazki/
ATTACH;FMTTYPE=image/png:https://www.lukasfrankenstein.com/wp-content/uploads/2025/08/22.-Innowacyjne-Wynalazki.png
END:VEVENT
BEGIN:VEVENT
DTSTART;TZID=Europe/Amsterdam:20250522T200000
DTEND;TZID=Europe/Amsterdam:20250522T220000
DTSTAMP:20260424T052550
CREATED:20250517T162018Z
LAST-MODIFIED:20250517T163940Z
UID:17047-1747944000-1747951200@www.lukasfrankenstein.com
SUMMARY:#12 Innowacyjne Wynalazki
DESCRIPTION:💡Newsy ze świata innowacyjnych wynalazków\, odkryć\, wizji naukowych i inne ciekawostki. \n🔸Kiedy: w każdy czwartek \n🔸O której: 20:00 \, czas EU – Amsterdam \n🔸Gdzie:  \n🔴 YouTube: Okiem pisarza\, \n⚫️ TikTok: Lukas Przelaskowski \n🔵 Facebook: Innowacyjne Wynalazki \n🟣 Twitch.TV: Lukas Przelaskowski \n🟡 Linkedin: Lukas Przelaskowski \n🤝 Projekt pod patronem firmy: Lukas Frankenstein \n⭐️ Cel projektu: Otwarcie Radia Online Lukas Frankenstein\, w którym pojawi się m.in. taka audycja.\n❤️ Możesz pomóc wesprzeć cel poprzez m.in.: \n💰 1. Wpłatę na zrzutkę 4Fund.com\, gdzie możesz wybrać opcję pobrania jednego z trzech e-booków. \n☕️ 2.Postawienie kawy pobierając jednocześnie e-booka: Buy Me A Coffee \n📚 3. Zakup książki\, e-booka lub innego produktu ze sklepiku wydawnictwa Lukas Frankenstein: Lukas Frankenstein \n📲 4. Subskrypcji odpłatnej TikToka: Lukas Przelaskowski  \n🎬 5. Wsparcia odpłatnego YouTube: Okiem pisarza ( przycisk WESPRZYJ dostępny na dole pod każdym filmem). \n⚠️Pozostałe projekty\, których stopniowo będzie przybywać i najlepsze znajdą się w ramówce przyszłego radia online firmy Lukas Frankenstein\, ich opis\, dni kiedy są realizowane znajdziesz w Kalendarzu Wydarzeń📲 \n👍 💚 Zapraszam do dodatkowego wsparcia poprzez obserwacje\, subskrypcje\, polubienia\, udostępnienia na waszych SM oraz znajomym na Messengerze\, WhatsAppie i innych komunikatorach\, kulturalne komentarze zawsze mile widziane.  \n🤠 Z góry dziękuję i pozdrawiam Łukasz Przelaskowski – właściciel firmy Lukas Frankenstein\, niezależny dziennikarz. \n🤔 Więcej o mnie: Biografia \n🤝 Wsparcie:  @ZrzutkaPl  @4fundcom  @BuyMeaCoffee 🎙️ \nNowość w streamingu lub chcesz przejść na wyższy poziom? Sprawdź StreamYard i zdobądź 10$ zniżki!😍  @StreamYard
URL:https://www.lukasfrankenstein.com/event/12-innowacyjne-wynalazki/
LOCATION:Innowacyjne Wynalazki\, Drenthe\, Netherlands
ATTACH;FMTTYPE=image/png:https://www.lukasfrankenstein.com/wp-content/uploads/2025/05/12-Innowacyjne-Wynalazki.png
END:VEVENT
BEGIN:VEVENT
DTSTART;TZID=Europe/Amsterdam:20250404T200000
DTEND;TZID=Europe/Amsterdam:20250404T210000
DTSTAMP:20260424T052550
CREATED:20250331T153601Z
LAST-MODIFIED:20250331T153902Z
UID:16587-1743796800-1743800400@www.lukasfrankenstein.com
SUMMARY:#6 Social Media News
DESCRIPTION:⭐️ Social Media to Newsy ze świata social mediów\, porady\, wskazówki\, ich zastosowanie prywatnie lub firmowo oraz inne ciekawostki. \n🔸Kiedy: w każdy piątek \n🔸O której: 20:00 \, czas EU – Amsterdam \n🔸Gdzie:  \n🔴 YouTube: Okiem pisarza\, \n⚫️ TikTok: Lukas Przelaskowski \n🔵 Facebook: Innowacyjne Wynalazki \n🟣 Twitch.TV: Lukas Przelaskowski \n🟡 Linkedin: Lukas Przelaskowski \n🤝 Projekt pod patronem firmy: Lukas Frankenstein \n⭐️ Cel projektu: Otwarcie Radia Online Lukas Frankenstein\, w którym pojawi się m.in. taka audycja.\n❤️ Możesz pomóc wesprzeć cel poprzez m.in.: \n💰 1. Wpłatę na zrzutkę 4Fund.com\, gdzie możesz wybrać opcję pobrania jednego z trzech e-booków. \n☕️ 2.Postawienie kawy pobierając jednocześnie e-booka: Buy Me A Coffee \n📚 3. Zakup książki\, e-booka lub innego produktu ze sklepiku wydawnictwa Lukas Frankenstein: Lukas Frankenstein \n📲 4. Subskrypcji odpłatnej TikToka: Lukas Przelaskowski \n⚠️Pozostałe projekty\, których stopniowo będzie przybywać i najlepsze znajdą się w ramówce przyszłego radia online firmy Lukas Frankenstein\, ich opis\, dni kiedy są realizowane znajdziesz w Kalendarzu Wydarzeń📲 \n👍 💚 Zapraszam do dodatkowego wsparcia poprzez obserwacje\, subskrypcje\, polubienia\, udostępnienia na waszych SM oraz znajomym na Messengerze\, WhatsAppie i innych komunikatorach\, kulturalne komentarze zawsze mile widziane.  \n🤠 Z góry dziękuję i pozdrawiam Łukasz Przelaskowski – właściciel firmy Lukas Frankenstein\, niezależny dziennikarz. \n🤔 Więcej o mnie: Biografia \n🤝 Wsparcie:  @ZrzutkaPl   @4fundcom   @BuyMeaCoffee  🎙️ \nNowość w streamingu lub chcesz przejść na wyższy poziom? Sprawdź StreamYard i zdobądź 10$ zniżki!😍   @StreamYard 
URL:https://www.lukasfrankenstein.com/event/6-social-media-news/
LOCATION:Social Media News\, Netherlands
ATTACH;FMTTYPE=image/png:https://www.lukasfrankenstein.com/wp-content/uploads/2025/03/6.-Social-Media-News.png
END:VEVENT
BEGIN:VEVENT
DTSTART;TZID=Europe/Amsterdam:20250403T200000
DTEND;TZID=Europe/Amsterdam:20250403T210000
DTSTAMP:20260424T052550
CREATED:20250331T153145Z
LAST-MODIFIED:20250517T161140Z
UID:16584-1743710400-1743714000@www.lukasfrankenstein.com
SUMMARY:#7 Innowacyjne Wynalazki
DESCRIPTION:💡Newsy ze świata innowacyjnych wynalazków\, odkryć\, wizji naukowych i inne ciekawostki. \n🔸Kiedy: w każdy czwartek \n🔸O której: 20:00 \, czas EU – Amsterdam \n🔸Gdzie:  \n🔴 YouTube: Okiem pisarza\, \n⚫️ TikTok: Lukas Przelaskowski \n🔵 Facebook: Innowacyjne Wynalazki \n🟣 Twitch.TV: Lukas Przelaskowski \n🟡 Linkedin: Lukas Przelaskowski \n🤝 Projekt pod patronem firmy: Lukas Frankenstein \n⭐️ Cel projektu: Otwarcie Radia Online Lukas Frankenstein\, w którym pojawi się m.in. taka audycja.\n❤️ Możesz pomóc wesprzeć cel poprzez m.in.: \n💰 1. Wpłatę na zrzutkę 4Fund.com\, gdzie możesz wybrać opcję pobrania jednego z trzech e-booków. \n☕️ 2.Postawienie kawy pobierając jednocześnie e-booka: Buy Me A Coffee \n📚 3. Zakup książki\, e-booka lub innego produktu ze sklepiku wydawnictwa Lukas Frankenstein: Lukas Frankenstein \n📲 4. Subskrypcji odpłatnej TikToka: Lukas Przelaskowski \n⚠️Pozostałe projekty\, których stopniowo będzie przybywać i najlepsze znajdą się w ramówce przyszłego radia online firmy Lukas Frankenstein\, ich opis\, dni kiedy są realizowane znajdziesz w Kalendarzu Wydarzeń📲 \n👍 💚 Zapraszam do dodatkowego wsparcia poprzez obserwacje\, subskrypcje\, polubienia\, udostępnienia na waszych SM oraz znajomym na Messengerze\, WhatsAppie i innych komunikatorach\, kulturalne komentarze zawsze mile widziane.  \n🤠 Z góry dziękuję i pozdrawiam Łukasz Przelaskowski – właściciel firmy Lukas Frankenstein\, niezależny dziennikarz. \n🤔 Więcej o mnie: Biografia \n🤝 Wsparcie: @ZrzutkaPl  @4fundcom  @BuyMeaCoffee  🎙️ \nNowość w streamingu lub chcesz przejść na wyższy poziom? Sprawdź StreamYard i zdobądź 10$ zniżki!😍  @StreamYard
URL:https://www.lukasfrankenstein.com/event/7-innowacyjne-wynalazki/
LOCATION:Innowacyjne Wynalazki\, Drenthe\, Netherlands
ATTACH;FMTTYPE=image/png:https://www.lukasfrankenstein.com/wp-content/uploads/2025/03/7-Innowacyjne-Wynalazki.png
END:VEVENT
BEGIN:VEVENT
DTSTART;TZID=Europe/Amsterdam:20250328T200000
DTEND;TZID=Europe/Amsterdam:20250328T210000
DTSTAMP:20260424T052550
CREATED:20250324T133403Z
LAST-MODIFIED:20250324T134134Z
UID:16534-1743192000-1743195600@www.lukasfrankenstein.com
SUMMARY:#5 Social Media News
DESCRIPTION:⭐️ Social Media to Newsy ze świata social mediów\, porady\, wskazówki\, ich zastosowanie prywatnie lub firmowo oraz inne ciekawostki. \n🔸Kiedy: w każdy piątek \n🔸O której: 20:00 \, czas EU – Amsterdam \n🔸Gdzie:  \n🔴 YouTube: Okiem pisarza\, \n⚫️ TikTok: Lukas Przelaskowski \n🔵 Facebook: Innowacyjne Wynalazki \n🟣 Twitch.TV: Lukas Przelaskowski \n🟡 Linkedin: Lukas Przelaskowski \n🤝 Projekt pod patronem firmy: Lukas Frankenstein \n⭐️ Cel projektu: Otwarcie Radia Online Lukas Frankenstein\, w którym pojawi się m.in. taka audycja.\n❤️ Możesz pomóc wesprzeć cel poprzez m.in.: \n💰 1. Wpłatę na zrzutkę 4Fund.com\, gdzie możesz wybrać opcję pobrania jednego z trzech e-booków. \n☕️ 2.Postawienie kawy pobierając jednocześnie e-booka: Buy Me A Coffee \n📚 3. Zakup książki\, e-booka lub innego produktu ze sklepiku wydawnictwa Lukas Frankenstein: Lukas Frankenstein \n📲 4. Subskrypcji odpłatnej TikToka: Lukas Przelaskowski \n⚠️Pozostałe projekty\, których stopniowo będzie przybywać i najlepsze znajdą się w ramówce przyszłego radia online firmy Lukas Frankenstein\, ich opis\, dni kiedy są realizowane znajdziesz w Kalendarzu Wydarzeń📲 \n👍 💚 Zapraszam do dodatkowego wsparcia poprzez obserwacje\, subskrypcje\, polubienia\, udostępnienia na waszych SM oraz znajomym na Messengerze\, WhatsAppie i innych komunikatorach\, kulturalne komentarze zawsze mile widziane.  \n🤠 Z góry dziękuję i pozdrawiam Łukasz Przelaskowski – właściciel firmy Lukas Frankenstein\, niezależny dziennikarz. \n🤔 Więcej o mnie: Biografia \n🤝 Wsparcie:  @ZrzutkaPl   @4fundcom   @BuyMeaCoffee  🎙️ \nNowość w streamingu lub chcesz przejść na wyższy poziom? Sprawdź StreamYard i zdobądź 10$ zniżki!😍   @StreamYard 
URL:https://www.lukasfrankenstein.com/event/5-social-media-news/
LOCATION:Social Media News\, Netherlands
ATTACH;FMTTYPE=image/png:https://www.lukasfrankenstein.com/wp-content/uploads/2025/03/5.-Social-Media-News.png
END:VEVENT
BEGIN:VEVENT
DTSTART;TZID=Europe/Amsterdam:20250327T200000
DTEND;TZID=Europe/Amsterdam:20250327T210000
DTSTAMP:20260424T052550
CREATED:20250324T131254Z
LAST-MODIFIED:20250324T133015Z
UID:16529-1743105600-1743109200@www.lukasfrankenstein.com
SUMMARY:#6 Innowacyjne Wynalazki
DESCRIPTION:💡Newsy ze świata innowacyjnych wynalazków\, odkryć\, wizji naukowych i inne ciekawostki. \n🔸Kiedy: w każdy czwartek \n🔸O której: 20:00 \, czas EU – Amsterdam \n🔸Gdzie:  \n🔴 YouTube: Okiem pisarza\, \n⚫️ TikTok: Lukas Przelaskowski \n🔵 Facebook: Innowacyjne Wynalazki \n🟣 Twitch.TV: Lukas Przelaskowski \n🟡 Linkedin: Lukas Przelaskowski \n🤝 Projekt pod patronem firmy: Lukas Frankenstein \n⭐️ Cel projektu: Otwarcie Radia Online Lukas Frankenstein\, w którym pojawi się m.in. taka audycja.\n❤️ Możesz pomóc wesprzeć cel poprzez m.in.: \n💰 1. Wpłatę na zrzutkę 4Fund.com\, gdzie możesz wybrać opcję pobrania jednego z trzech e-booków. \n☕️ 2.Postawienie kawy pobierając jednocześnie e-booka: Buy Me A Coffee \n📚 3. Zakup książki\, e-booka lub innego produktu ze sklepiku wydawnictwa Lukas Frankenstein: Lukas Frankenstein \n📲 4. Subskrypcji odpłatnej TikToka: Lukas Przelaskowski \n⚠️Pozostałe projekty\, których stopniowo będzie przybywać i najlepsze znajdą się w ramówce przyszłego radia online firmy Lukas Frankenstein\, ich opis\, dni kiedy są realizowane znajdziesz w Kalendarzu Wydarzeń📲 \n👍 💚 Zapraszam do dodatkowego wsparcia poprzez obserwacje\, subskrypcje\, polubienia\, udostępnienia na waszych SM oraz znajomym na Messengerze\, WhatsAppie i innych komunikatorach\, kulturalne komentarze zawsze mile widziane.  \n🤠 Z góry dziękuję i pozdrawiam Łukasz Przelaskowski – właściciel firmy Lukas Frankenstein\, niezależny dziennikarz. \n🤔 Więcej o mnie: Biografia \n🤝 Wsparcie:  @ZrzutkaPl   @4fundcom   @BuyMeaCoffee  🎙️ \nNowość w streamingu lub chcesz przejść na wyższy poziom? Sprawdź StreamYard i zdobądź 10$ zniżki!😍   @StreamYard 
URL:https://www.lukasfrankenstein.com/event/6-innowacyjne-wynalazki/
LOCATION:Innowacyjne Wynalazki\, Drenthe\, Netherlands
ATTACH;FMTTYPE=image/png:https://www.lukasfrankenstein.com/wp-content/uploads/2025/03/6-Innowacyjne-Wynalazki.png
END:VEVENT
BEGIN:VEVENT
DTSTART;TZID=Europe/Amsterdam:20250213T200000
DTEND;TZID=Europe/Amsterdam:20250213T220000
DTSTAMP:20260424T052550
CREATED:20250217T151944Z
LAST-MODIFIED:20250217T151944Z
UID:16125-1739476800-1739484000@www.lukasfrankenstein.com
SUMMARY:P1 Innowacyjne Wynalazki
DESCRIPTION:💡Newsy ze świata innowacyjnych wynalazków\, odkryć\, wizji naukowych i inne ciekawostki. \n🔸Kiedy: w każdy czwartek\n🔸O której: 20:00 \, czas EU – Amsterdam\n🔸Gdzie: \n🔴 YouTube: Okiem pisarza\, https://www.youtube.com/@OkiemPisarza\n🔵 Facebook: Innowacyjne Wynalazki\, https://www.facebook.com/InnowacyjneWynalazki/\n🟣 Twitch.TV: lukasprzelaskowski\, https://www.twitch.tv/lukasprzelaskowski\n⚫️ TikTok: lukasprzelaskowski\, https://www.tiktok.com/@lukasprzelaskowski \n🤝 Projekt pod patronem firmy: Lukas Frankenstein https://www.lukasfrankenstein.com/ \n⭐️ Cel projektu: otwarcie radia online\, w którym pojawi się m.in. taka audycja. \n❤️ Możesz pomóc wesprzeć cel poprzez m.in.: \n🍀 1. Postawienie kawy: https://buymeacoffee.com/lukasfrankenstein\n🍀 2. Zakup książki\, e-booka lub innego produktu ze sklepiku wydawnictwa Lukas Frankenstein: https://www.lukasfrankenstein.com/sklep/\n🍀 3. Subskrypcji odpłatnej TikToka: https://www.tiktok.com/@lukasprzelaskowski \n⚠️Pozostałe projekty\, których stopniowo będzie przybywać i najlepsze znajdą się w ramówce przyszłego radia online firmy Lukas Frankenstein\, ich opis\, dni kiedy są realizowane znajdziesz w Kalendarzu Wydarzeń📲: https://www.lukasfrankenstein.com/kalendarz/ 👍 \n💚 Zapraszam do wsparcia poprzez obserwacje\, subskrypcje\, polubienia\, udostępnienia\, komentarze i pozostałe ww. propozycje. \n🤠 Z góry dziękuję i pozdrawiam Łukasz Przelaskowski – właściciel firmy Lukas Frankenstein\, niezależny dziennikarz. \n🤔 Więcej o mnie: https://www.lukasfrankenstein.com/biografia/
URL:https://www.lukasfrankenstein.com/event/p1-innowacyjne-wynalazki/
LOCATION:Innowacyjne Wynalazki\, Drenthe\, Netherlands
ATTACH;FMTTYPE=image/png:https://www.lukasfrankenstein.com/wp-content/uploads/2025/02/Innowacyjne-Wynalazki.png
END:VEVENT
END:VCALENDAR