BEGIN:VCALENDAR
VERSION:2.0
PRODID:-//Wydawnictwo Lukas Frankenstein - ECPv6.15.20//NONSGML v1.0//EN
CALSCALE:GREGORIAN
METHOD:PUBLISH
X-WR-CALNAME:Wydawnictwo Lukas Frankenstein
X-ORIGINAL-URL:https://www.lukasfrankenstein.com
X-WR-CALDESC:Wydarzenia dla Wydawnictwo Lukas Frankenstein
REFRESH-INTERVAL;VALUE=DURATION:PT1H
X-Robots-Tag:noindex
X-PUBLISHED-TTL:PT1H
BEGIN:VTIMEZONE
TZID:Europe/Amsterdam
BEGIN:DAYLIGHT
TZOFFSETFROM:+0100
TZOFFSETTO:+0200
TZNAME:CEST
DTSTART:20230326T010000
END:DAYLIGHT
BEGIN:STANDARD
TZOFFSETFROM:+0200
TZOFFSETTO:+0100
TZNAME:CET
DTSTART:20231029T010000
END:STANDARD
BEGIN:DAYLIGHT
TZOFFSETFROM:+0100
TZOFFSETTO:+0200
TZNAME:CEST
DTSTART:20240331T010000
END:DAYLIGHT
BEGIN:STANDARD
TZOFFSETFROM:+0200
TZOFFSETTO:+0100
TZNAME:CET
DTSTART:20241027T010000
END:STANDARD
BEGIN:DAYLIGHT
TZOFFSETFROM:+0100
TZOFFSETTO:+0200
TZNAME:CEST
DTSTART:20250330T010000
END:DAYLIGHT
BEGIN:STANDARD
TZOFFSETFROM:+0200
TZOFFSETTO:+0100
TZNAME:CET
DTSTART:20251026T010000
END:STANDARD
BEGIN:DAYLIGHT
TZOFFSETFROM:+0100
TZOFFSETTO:+0200
TZNAME:CEST
DTSTART:20260329T010000
END:DAYLIGHT
BEGIN:STANDARD
TZOFFSETFROM:+0200
TZOFFSETTO:+0100
TZNAME:CET
DTSTART:20261025T010000
END:STANDARD
END:VTIMEZONE
BEGIN:VEVENT
DTSTART;TZID=Europe/Amsterdam:20250225T200000
DTEND;TZID=Europe/Amsterdam:20250225T220000
DTSTAMP:20260424T120616
CREATED:20250517T134628Z
LAST-MODIFIED:20250517T141748Z
UID:17010-1740513600-1740520800@www.lukasfrankenstein.com
SUMMARY:#49 Poszukiwanie Szlacheckich Nazwisk i Herbów
DESCRIPTION:🔍W dzisiejszym #49 live szukam nazwisk pod kątem czy mają korzenie szlacheckie oraz herb🛡. \nSprawdzone nazwiska podane są pod każdym odcinkiem w opisie. \n🤠 Nazywam się Łukasz Przelaskowski\, jestem z wykształcenia mgr historii i piątym w kolejności archiwistą rodu Przelaskowskich herbu Szreniawa\, o których historii oraz archiwach obroniłem pracę magisterską. Badaniami genealogicznymi i heraldycznymi zajmuję się już od ponad dwudziestu lat. \n⚠️ Podstawową regułą przystąpienia do zgłoszenia jest: \n📲 1. OBSERWACJA kanału TikTok: lukasprzelaskowski. \n📲 2. SUBSKRYPCJA kanału YouTube: Okiem pisarza i tam podanie poszukiwanego nazwiska w l. poj. r. męskim. \n❤️ 3. Wsparcie projektu otwarcia Radia online Lukas Frankenstein: \n💰 A. Wpłata na zrzutkę\, gdzie możesz wybrać opcję pobrania jednego z trzech e-booków 4Fund.com \n☕️ B. Postawienie kawy Buy Me A Coffee \n📚 C. Zakup książki\, e-booka lub innego produktu ze sklepiku wydawnictwa Lukas Frankenstein: www.lukasfrankenstein.com/sklep/ \n📲 D. Subskrypcji odpłatnej TikToka \n🎬 E. Wsparcia odpłatnego YouTube – Okiem pisarza (pod każdym filmem na dole jest przycisk: WESPRZYJ): Najwartościowszą formą wymiany jest wiedza za wiedzę\, którą możemy przekazywać kolejnym pokoleniom. \n🔸Kiedy: w każdy wtorek \n🔸O której: 20:00-22:00 \, czas EU – Amsterdam \n🔸Gdzie: \n🔴 YouTube: Okiem pisarza\, \n🔵 Facebook: Lukas Przelaskowski \n🟣 Twitch.TV: lukasprzelaskowski\, \n⚫️ TikTok: lukasprzelaskowski\, \n🟡 Linkedin: Lukasz Przelaskowski \n⭐️ Cel projektu: otwarcie Radia Online Lukas Frankenstein\, w którym pojawi się m.in. taka audycja. \n🤝 Projekt pod patronem firmy: Lukas Frankenstein www.lukasfrankenstein.com \n⚠️ Pozostałe projekty\, których stopniowo będzie przybywać i najlepsze znajdą się w ramówce przyszłego radia online firmy Lukas Frankenstein\, ich opis\, dni kiedy są realizowane znajdziesz w Kalendarzu Wydarzeń 👍. \n💡Polecam kurs genealogiczny i wydania historyczno-naukowe mojego autorstwa w Szkole Genealogicznej Łukasza Przelaskowskiego\, które pomogą m.in. w zrozumieniu heraldyki\, genealogii\, poszukiwaniu przodków\, archiwizacji rodzinnych korzeni\, tworzeniu drzewa genealogicznego. \nI. 💡Kurs Genealogiczny Online w Szkole Genealogicznej Łukasza Przelaskowskiego \n🍀 Skład kompletu\, który do Kursu Genealogicznego trzeba dokupić osobno:  \nII.📙 „Historia Polskich i Litewskich Herbów W Świetle Archiwum Rodzinnego Rodu Przelaskowskich Herbu Szreniawa\, T. I” (Książka dostępna na Amazon\, linki do każdego Amazon na świecie podane w opsie na stronie wydawnictwa) \n III. 📚Linki do Zeszytów Genealogicznych w wydawnictwie Lukas Frankenstein\, gdzie w opisie są dodatkowe linki do Amazon z różnych krajów na świecie co ułatwi i przyśpieszy zamówienie dopasowując się do zleceniodawcy. \n 1.📘 „Zeszyt Genealogiczny po Mieczu\, T. I”\, \n2.📕„Zeszyt Genealogiczny po Kądzieli\, T. II”\, \n💚 Zapraszam do wsparcia poprzez obserwacje\, subskrypcje\, polubienia\, udostępnienia\, komentarze i pozostałe ww.  \n🤠 Z góry dziękuję i pozdrawiam Łukasz Przelaskowski – właściciel firmy Lukas Frankenstein\, niezależny dziennikarz. \n🤔 Więcej o mnie w BIOGRAFII 
URL:https://www.lukasfrankenstein.com/event/49-poszukiwanie-szlacheckich-nazwisk-i-herbow/
LOCATION:Streamin live online – 🔎Poszukiwania 🌳Szlacheckich Nazwisk i Herbów🛡️\, Netherlands
ATTACH;FMTTYPE=image/png:https://www.lukasfrankenstein.com/wp-content/uploads/2025/05/49-Poszukiwanie-Szlacheckich-Nazwisk-i-Herbow.png
END:VEVENT
BEGIN:VEVENT
DTSTART;TZID=Europe/Amsterdam:20250218T200000
DTEND;TZID=Europe/Amsterdam:20250218T220000
DTSTAMP:20260424T120616
CREATED:20250217T152955Z
LAST-MODIFIED:20250217T155753Z
UID:16129-1739908800-1739916000@www.lukasfrankenstein.com
SUMMARY:#48 Poszukiwania Szlacheckich Nazwisk i Herbów
DESCRIPTION:🇵🇱🤠🔎 #48 Poszukiwania Szlacheckie Nazwisk i Herbów🛡️\n⭐️Cel: Otwarcie 🎙️Radia Online🎧\, gdzie najbardziej popularne projekty znajdą się w ramówce \n✅ ✍️ Podaj jedno nazwisko w l. poj.\, r. męskim w komentarzu\, a sprawdzę jego pochodzenie szlacheckie oraz czy posiada herb. \n🛡️ ✅ Obowiązkowe trzy zasady do realizacji:\n⚫️ 1. OBS dla mojego TikToka: LukasPrzelaskowski: https://www.tiktok.com/@lukasprzelaskowski\n🔴 2. SUB dla YT: Okiem pisarza – tam też podaj jedno nazwisko w komentarzu https://www.youtube.com/@OkiemPisarza\n💚 3. Do wyboru:\n💰a. Subskrybuj odpłatnie TikTok: https://www.tiktok.com/@lukasprzelaskowski\n💰b. Postaw mi kawę: https://buymeacoffee.com/lukasfrankenstein\n💰c. Kup wybraną książkę lub ebook w sklepie wydawnictwa https://www.lukasfrankenstein.com/kategoria-produktu/wydawnictwo/ \n✌️🇵🇱🇳🇱 👉Linki do stron są w BIO lub w opisie przez portal Linktree https://linktr.ee/lukasfrankenstein. \n  \n📚Linki do Zeszytów Genealogicznych w wydawnictwie Lukas Frankenstein\, gdzie w opisie są dodatkowe linki do Amazon z różnych krajów na świecie co ułatwi i przyśpieszy zamówienie dopasowując się do zleceniodawcy. \n📘 „Zeszyt Genealogiczny po Mieczu\, T. I”\, 📲 Link: https://www.lukasfrankenstein.com/sklep/zeszyt-genealogiczny-po-mieczu/\n📕„Zeszyt Genealogiczny po Kądzieli\, T. II” 📲 Link: https://www.lukasfrankenstein.com/sklep/zeszyt-genealogiczny-po-kadzieli/ \n💚 Wszystkie odcinki znajdziesz na kanale YouTube: Okiem pisarza\, gdzie pod każdym w opisie są podane sprawdzone nazwiska. ⭐️ \n🤠 👍 Dziękuję za Wasze zgłoszenia\, obecność\, subskrypcje\, obserwacje\, polubienia i prezenty z kulturalnymi wypowiedziami bądź zapytaniami. Pozdrawiam i zapraszam na kolejne liv-y. \nmgr Łukasz Przelaskowski herbu Szreniawa.🛡
URL:https://www.lukasfrankenstein.com/event/48-poszukiwania-szlacheckich-nazwisk-i-herbow/
LOCATION:Streamin live online – 🔎Poszukiwania 🌳Szlacheckich Nazwisk i Herbów🛡️\, Netherlands
ATTACH;FMTTYPE=image/png:https://www.lukasfrankenstein.com/wp-content/uploads/2025/02/1-Poszukiwanie-Szlacheckich-Nazwisk-i-Herbow-1-1.png
END:VEVENT
BEGIN:VEVENT
DTSTART;TZID=Europe/Amsterdam:20241218T200000
DTEND;TZID=Europe/Amsterdam:20241218T220000
DTSTAMP:20260424T120616
CREATED:20241217T171739Z
LAST-MODIFIED:20241227T190212Z
UID:15916-1734552000-1734559200@www.lukasfrankenstein.com
SUMMARY:#35 Poszukiwania Szlacheckich Nazwisk i Herbów
DESCRIPTION:🤔 Czy interesujesz się historią swojej rodziny?\n🌳 Czy prowadzisz lub zamierzasz stworzyć drzewo genealogiczne?\n🛡️ Czy chciałbyś poznać czy Twoje nazwisko jest szlacheckie oraz posiada herb?\n  \n🤠 W takim razie zapraszam Ciebie do moich spotkań na żywo\, gdzie podczas live online 🔎 szukam 📚 pochodzenia nazwisk 🤔 i herbów🛡️!\n  \n🗓️ Kiedy: Od poniedziałku do piątku live online \n⏰ O której: Od 20:00 do 22. \n📲 Gdzie: 👉 ⚫️ TikTok: lukasprzelaskowski oraz 👉 🔴 YouTube: Okiem Pisarza – PODSTAWĄ DO ZGŁOSZENIA JEST ICH OBSERWACJA I SUBSKRYPCJA \n  \n🎬  Nagrania są udostępnione na kanale 👉 🔴 YouTube: Okiem pisarza\, a sprawdzone nazwiska podane w opisie na dole\, co ułatwi rozeznanie dla zainteresowanych osób.uu \n⚠️Reguły:\n0. Sprawdzam tylko tych\, którzy obserwują kanał TikTok: LukasPrzelaskowski oraz subskrybują kanał YouTube: Okiem pisarza -> potwierdź w komentarzu na YouTube.  \n\nZanim podasz nazwisko do sprawdzenia sprawdź poprzednie liv-y na kanale YouTube: Okiem pisarza\, katalog: Badania Genealogiczne i Heraldyczne. W opisach pod nagraniami są podane nazwiska\, które zostały sprawdzone w danym odcinku. Możliwe jest tam już Twoje więc oszczędzimy sobie czasu i energii\, a także damy szansę pozostałym.\n✍️ Podaj nazwisko w komentarzu w l. poj.\, r. męski w najstarszej formie jaką znasz (czasami osoby znają kilka wersji swojego nazwiska)\, a sprawdzę jego pochodzenie szlacheckie i czy posiada herb.\nSprawdzam tylko jedno [1] nazwisko dla osoby zwykłej i dwa [2] nazwiska dla subskrybentów oraz kupujących w sklepie wydawnictwa Lukas Frankenstein.\n💡 Jeśli dołączysz do subskrybentów na moim kanale 👉 ⚫️ TikTok otrzymasz pierwszeństwo do sprawdzenia przed setkami innych\, którzy zgłaszają się każdego dnia pisząc z prośbą o pomoc genealogiczną w wiadomościach.\n\n❤️ Subskrybenci mają zapewnione dodatkowo w zamkniętych live online m.in.: \n🍀 1. Wykłady genealogiczne i heraldyczne \n🍀 2. Pomoce w badaniach swoich przodków \n🍀 3. Jako pierwsi otrzymują newsy i zniżki do sklepu wydawnictwa 👉 Lukas Frankenstein Publishers. \n🍀 4. Organizujemy wspólnie zjazdy szlacheckie dla miłośników genealogii i heraldyki. \n  \n5. 📗 🔴 W drugiej kolejności sprawdzam historię nazwisk osób\, które kupiły jedną z moich książek bądź inny produkt ze sklepu mojego wydawnictwa 👉 Lukas Frankenstein dodając przy zamówieniu wymienione dwa [2] nazwiska do poszukiwania. \n🌳🛡️ Polecam nowe wydania\, które pomogą w archiwizacji rodzinnych korzeni przodków z cennymi wskazówkami\, adresami i stronami: \n👉 📘 „Zeszyt Genealogiczny po Mieczu\, T. I” – historia ze strony linii męskiej tj. tato\, dziadek\, pradziadek \n👉 📕 „Zeszyt Genealogiczny po Kądzieli\, T. II” – historia ze strony linii żeńskiej tj. mama\, babcia\, prababcia \n6. Zachowaj cierpliwość\, kulturę i szacunek do innych. Mam tzw. zero tolerancji i blokuje od razu hejterów. \n7. Nie wklejaj zbyt dużej ilości razy nazwiska dając szansę pozostałym. \n8. Jeśli napiszesz w wiadomości prywatnej przez TikTok jako osoba zwykła\, a nie subskrybent odpłatny TikTok-a\, z prośbą o sprawdzenie\, proszę uzbrój się w cierpliwość ponieważ mam setki zgłoszeń\, które czekają nawet miesiąc czasu. \n  \n🇵🇱 W Polsce do 1772 roku na 12\,5 mln osób było ponad 1\,2 mln osób stanu szlacheckiego. Czas przywrócić pamięć o przodkach dla siebie i kolejnych pokoleń Polek i Polaków budując pomosty międzypokoleniowe oraz międzynarodowe z Polonią i innymi rodami zagranicznych krajów. Dbajmy o naszą Polską historię\, kulturę\, tradycje folklor które ukryte są w herbach mających tysiącletnie wywody jako piękne opowieści\, mity\, legendy i symbole\, znaki jeszcze sprzed przyjęcia chrztu przez Polskę w 966 roku. \n🛡🌳 🤠 Zapraszam jako mgr historii o dwudziestoletnim doświadczeniu piątego w kolejności archiwisty rodu Przelaskowskich herbu Szreniawa\, gdzie badania trwają z poprzednimi archiwistami już sto lat\, a sam ród wywodzi się od najstarszego znanego obecnie protoplasty z 1560 roku.⚔️🏹 \n🎁 W ramach wsparcia\, umocnienia i podziękowań zapraszam do zakupu moich 📗książek z dedykacją oraz innych produktów w sklepie online polonijnego wydawnictwa 📚👉 Lukas Frankenstein z Holandii – jedynego na zachodzie Europy 🇳🇱 \n🤠 👍 Dziękuję za Wasze zgłoszenia\, obecność\, subskrypcje\, obserwacje\, polubienia i prezenty z kulturalnymi wypowiedziami bądź zapytaniami. Pozdrawiam i zapraszam na kolejne liv-y. \nmgr Łukasz Przelaskowski herbu Szreniawa.🛡
URL:https://www.lukasfrankenstein.com/event/35-poszukiwania-szlacheckich-nazwisk-i-herbow/
LOCATION:Streamin live online – 🔎Poszukiwania 🌳Szlacheckich Nazwisk i Herbów🛡️\, Netherlands
ATTACH;FMTTYPE=image/jpeg:https://www.lukasfrankenstein.com/wp-content/uploads/2024/11/20241112_065708-Sredni.jpeg
END:VEVENT
BEGIN:VEVENT
DTSTART;TZID=Europe/Amsterdam:20241115T200000
DTEND;TZID=Europe/Amsterdam:20241115T220000
DTSTAMP:20260424T120616
CREATED:20241115T140006Z
LAST-MODIFIED:20241127T131652Z
UID:15633-1731700800-1731708000@www.lukasfrankenstein.com
SUMMARY:#13 Poszukiwania Szlacheckich Nazwisk i Herbów
DESCRIPTION:🤔 Czy interesujesz się historią swojej rodziny?\n🌳 Czy prowadzisz lub zamierzasz stworzyć drzewo genealogiczne?\n🛡️ Czy chciałbyś poznać czy Twoje nazwisko jest szlacheckie oraz posiada herb?\n  \n🤠 W takim razie zapraszam Ciebie do moich spotkań na żywo\, gdzie podczas live online 🔎 szukam 📚 pochodzenia nazwisk 🤔 i herbów🛡️!\n  \n🗓️ Kiedy: Od poniedziałku do piątku live online \n⏰ O której: Od 20:00 do 22/23:00. \n📲 Gdzie: 👉 ⚫️ TikTok: lukasprzelaskowski oraz 👉 🔴 YouTube: Okiem Pisarza  \n  \n🎬  Nagrania są udostępnione na kanale 👉 🔴 YouTube: Okiem pisarza\, a sprawdzone nazwiska podane w opisie na dole\, co ułatwi rozeznanie dla zainteresowanych osób. \n  \nReguły:\n\n✍️ Podaj nazwisko w komentarzu\, a sprawdzę jego pochodzenie szlacheckie i czy posiada herb.\n💡 Jeśli dołączysz do subskrybentów na moim kanale 👉 ⚫️ TikTok otrzymasz pierwszeństwo do sprawdzenia przed setkami innych\, którzy zgłaszają się każdego dnia pisząc z prośbą o pomoc genealogiczną w wiadomościach.\n\n❤️ Subskrybenci mają zapewnione dodatkowo w zamkniętych live online m.in.: \n🍀 1. Wykłady genealogiczne i heraldyczne \n🍀 2. Pomoce w badaniach swoich przodków \n🍀 3. Jako pierwsi otrzymują newsy i zniżki do sklepu wydawnictwa 👉 Lukas Frankenstein Publishers. \n🍀 4. Organizujemy wspólnie zjazdy szlacheckie dla miłośników genealogii i heraldyki. \n  \n3. 📗 🔴 W drugiej kolejności sprawdzam historię nazwisk osób\, które kupiły jedną z moich książek bądź inny produkt ze sklepu mojego wydawnictwa 👉 Lukas Frankenstein dodając przy zamówieniu wymienione nazwiska do poszukiwania. \n🌳🛡️ Polecam nowe wydania\, które pomogą w archiwizacji rodzinnych korzeni przodków z cennymi wskazówkami\, adresami i stronami: \n👉 📘 „Zeszyt Genealogiczny po Mieczu\, T. I” – historia ze strony linii męskiej tj. tato\, dziadek\, pradziadek \n👉 📕 „Zeszyt Genealogiczny po Kądzieli\, T. II” – historia ze strony linii żeńskiej tj. mama\, babcia\, prababcia \n. \n🇵🇱 W Polsce do 1772 roku na 12\,5 mln osób było ponad 1\,2 mln osób stanu szlacheckiego. Czas przywrócić pamięć o przodkach dla siebie i kolejnych pokoleń Polek i Polaków budującpomosty międzypokoleniowe oraz międzynarodowe z Polonią i innymi rodami zagranicznych krajów. Dbajmy o naszą Polską historię\, kulturę\, tradycje folklor które ukryte są w herbach mających tysiącletnie wywody jako piękne opowieści\, mity\, legendy i symbole\, znaki jeszcze sprzed przyjęcia chrztu przez Polskę w 966 roku. \n🛡🌳 🤠 Zapraszam jako mgr historii o dwudziestoletnim doświadczeniu piątego w kolejności archiwisty rodu Przelaskowskich herbu Szreniawa\, gdzie badania trwają z poprzednimi archiwistami już sto lat\, a sam ród wywodzi się od najstarszego znanego obecnie protoplasty z 1560 roku.⚔️🏹 \n🎁 W ramach wsparcia\, umocnienia i podziękowań zapraszam do zakupu moich 📗książek z dedykacją oraz innych produktów w sklepie online polonijnego wydawnictwa 📚👉 Lukas Frankenstein z Holandii – jedynego na zachodzie Europy 🇳🇱 \n🤠 👍 Dziękuję za Wasze zgłoszenia\, obecność\, subskrypcje\, obserwacje\, polubienia i prezenty z kulturalnymi wypowiedziami bądź zapytaniami. Pozdrawiam i zapraszam na kolejne liv-y. \nmgr Łukasz Przelaskowski herbu Szreniawa.🛡
URL:https://www.lukasfrankenstein.com/event/poszukiwania-szlacheckich-nazwisk-i-herbow-2/
LOCATION:Streamin live online – 🔎Poszukiwania 🌳Szlacheckich Nazwisk i Herbów🛡️\, Netherlands
ATTACH;FMTTYPE=image/jpeg:https://www.lukasfrankenstein.com/wp-content/uploads/2024/11/20241112_065708-Sredni.jpeg
END:VEVENT
END:VCALENDAR