BEGIN:VCALENDAR
VERSION:2.0
PRODID:-//Wydawnictwo Lukas Frankenstein - ECPv6.15.20//NONSGML v1.0//EN
CALSCALE:GREGORIAN
METHOD:PUBLISH
X-WR-CALNAME:Wydawnictwo Lukas Frankenstein
X-ORIGINAL-URL:https://www.lukasfrankenstein.com
X-WR-CALDESC:Wydarzenia dla Wydawnictwo Lukas Frankenstein
REFRESH-INTERVAL;VALUE=DURATION:PT1H
X-Robots-Tag:noindex
X-PUBLISHED-TTL:PT1H
BEGIN:VTIMEZONE
TZID:Europe/Amsterdam
BEGIN:DAYLIGHT
TZOFFSETFROM:+0100
TZOFFSETTO:+0200
TZNAME:CEST
DTSTART:20240331T010000
END:DAYLIGHT
BEGIN:STANDARD
TZOFFSETFROM:+0200
TZOFFSETTO:+0100
TZNAME:CET
DTSTART:20241027T010000
END:STANDARD
BEGIN:DAYLIGHT
TZOFFSETFROM:+0100
TZOFFSETTO:+0200
TZNAME:CEST
DTSTART:20250330T010000
END:DAYLIGHT
BEGIN:STANDARD
TZOFFSETFROM:+0200
TZOFFSETTO:+0100
TZNAME:CET
DTSTART:20251026T010000
END:STANDARD
BEGIN:DAYLIGHT
TZOFFSETFROM:+0100
TZOFFSETTO:+0200
TZNAME:CEST
DTSTART:20260329T010000
END:DAYLIGHT
BEGIN:STANDARD
TZOFFSETFROM:+0200
TZOFFSETTO:+0100
TZNAME:CET
DTSTART:20261025T010000
END:STANDARD
END:VTIMEZONE
BEGIN:VEVENT
DTSTART;TZID=Europe/Amsterdam:20250902T200000
DTEND;TZID=Europe/Amsterdam:20250902T230000
DTSTAMP:20260424T070837
CREATED:20250831T144353Z
LAST-MODIFIED:20250831T150729Z
UID:17387-1756843200-1756854000@www.lukasfrankenstein.com
SUMMARY:#71 Audycja: Poszukiwanie Szlacheckich Nazwisk i Herbów
DESCRIPTION:🔍W dzisiejszym #71 live szukam nazwisk pod kątem czy mają korzenie szlacheckie oraz herb🛡. \nSprawdzone nazwiska podane są pod każdym odcinkiem w opisie. \n🤠 Nazywam się Łukasz Przelaskowski\, jestem z wykształcenia mgr historii i piątym w kolejności archiwistą rodu Przelaskowskich herbu Szreniawa\, o których historii oraz archiwach obroniłem pracę magisterską. Badaniami genealogicznymi i heraldycznymi zajmuję się już od ponad dwudziestu lat. \n⚠️ Podstawową regułą przystąpienia do zgłoszenia jest: \n📲 1. OBSERWACJA kanału TikTok: lukasprzelaskowski. \n📲 2. SUBSKRYPCJA kanału YouTube: Okiem pisarza i tam podanie poszukiwanego nazwiska w l. poj. r. męskim. \n❤️ 3. Wsparcie projektu otwarcia Radia online Lukas Frankenstein: \n💰 A. Wpłata na zrzutkę\, gdzie możesz wybrać opcję pobrania jednego z trzech e-booków 4Fund.com \n☕️ B. Postawienie kawy Buy Me A Coffee \n📚 C. Zakup książki\, e-booka lub innego produktu ze sklepiku wydawnictwa Lukas Frankenstein: www.lukasfrankenstein.com/sklep/ \n📲 D. Subskrypcji odpłatnej TikToka \n🎬 E. Wsparcia odpłatnego YouTube – Okiem pisarza (pod każdym filmem na dole jest przycisk: WESPRZYJ): Najwartościowszą formą wymiany jest wiedza za wiedzę\, którą możemy przekazywać kolejnym pokoleniom. \n🔸Kiedy: w każdy wtorek \n🔸O której: 20:00-22:00 \, czas EU – Amsterdam \n🔸Gdzie: \n🔴 YouTube: Okiem pisarza\, \n🔵 Facebook: Lukas Przelaskowski \n🟣 Twitch.TV: lukasprzelaskowski\, \n⚫️ TikTok: lukasprzelaskowski\, \n🟡 Linkedin: Lukasz Przelaskowski \n🟢 Kick: Lukas Przelaskowski \n🟠 Instagram: LukasPrzelaskowski.pisarz \n⚪️ Rumble: Przelaskowski \n  \n⭐️ Cel projektu: otwarcie Radia Online Lukas Frankenstein\, w którym pojawi się m.in. taka audycja. \n🤝 Projekt pod patronem firmy: Lukas Frankenstein www.lukasfrankenstein.com \n⚠️ Pozostałe projekty\, których stopniowo będzie przybywać i najlepsze znajdą się w ramówce przyszłego radia online firmy Lukas Frankenstein\, ich opis\, dni kiedy są realizowane znajdziesz w Kalendarzu Wydarzeń 👍. \n  \n💡Polecam kurs genealogiczny i wydania historyczno-naukowe mojego autorstwa w Szkole Genealogicznej Łukasza Przelaskowskiego\, które pomogą m.in. w zrozumieniu heraldyki\, genealogii\, poszukiwaniu przodków\, archiwizacji rodzinnych korzeni\, tworzeniu drzewa genealogicznego. \nI. 💡Kurs Genealogiczny Online w Szkole Genealogicznej Łukasza Przelaskowskiego \n🍀 Skład kompletu\, który do Kursu Genealogicznego trzeba dokupić osobno:  \nII.📙 „Historia Polskich i Litewskich Herbów W Świetle Archiwum Rodzinnego Rodu Przelaskowskich Herbu Szreniawa\, T. I” (Książka dostępna na Amazon\, linki do każdego Amazon na świecie podane w opsie na stronie wydawnictwa) \n III. 📚Linki do Zeszytów Genealogicznych w wydawnictwie Lukas Frankenstein\, gdzie w opisie są dodatkowe linki do Amazon z różnych krajów na świecie co ułatwi i przyśpieszy zamówienie dopasowując się do zleceniodawcy. \n 1.📘 „Zeszyt Genealogiczny po Mieczu\, T. I”\, \n2.📕„Zeszyt Genealogiczny po Kądzieli\, T. II”\, \n  \n💚 Zapraszam do wsparcia poprzez obserwacje\, subskrypcje\, polubienia\, udostępnienia\, komentarze i pozostałe ww.  \n🤠 Z góry dziękuję i pozdrawiam Łukasz Przelaskowski – właściciel firmy Lukas Frankenstein\, niezależny dziennikarz. \n🤔 Więcej o mnie w BIOGRAFII 
URL:https://www.lukasfrankenstein.com/event/71-audycja-poszukiwanie-szlacheckich-nazwisk-i-herbow/
ATTACH;FMTTYPE=image/png:https://www.lukasfrankenstein.com/wp-content/uploads/2025/08/71-Poszukiwanie-Szlacheckich-Nazwisk-i-Herbow.png
END:VEVENT
END:VCALENDAR