BEGIN:VCALENDAR
VERSION:2.0
PRODID:-//Wydawnictwo Lukas Frankenstein - ECPv6.15.20//NONSGML v1.0//EN
CALSCALE:GREGORIAN
METHOD:PUBLISH
X-WR-CALNAME:Wydawnictwo Lukas Frankenstein
X-ORIGINAL-URL:https://www.lukasfrankenstein.com
X-WR-CALDESC:Wydarzenia dla Wydawnictwo Lukas Frankenstein
REFRESH-INTERVAL;VALUE=DURATION:PT1H
X-Robots-Tag:noindex
X-PUBLISHED-TTL:PT1H
BEGIN:VTIMEZONE
TZID:Europe/Amsterdam
BEGIN:DAYLIGHT
TZOFFSETFROM:+0100
TZOFFSETTO:+0200
TZNAME:CEST
DTSTART:20210328T010000
END:DAYLIGHT
BEGIN:STANDARD
TZOFFSETFROM:+0200
TZOFFSETTO:+0100
TZNAME:CET
DTSTART:20211031T010000
END:STANDARD
BEGIN:DAYLIGHT
TZOFFSETFROM:+0100
TZOFFSETTO:+0200
TZNAME:CEST
DTSTART:20220327T010000
END:DAYLIGHT
BEGIN:STANDARD
TZOFFSETFROM:+0200
TZOFFSETTO:+0100
TZNAME:CET
DTSTART:20221030T010000
END:STANDARD
BEGIN:DAYLIGHT
TZOFFSETFROM:+0100
TZOFFSETTO:+0200
TZNAME:CEST
DTSTART:20230326T010000
END:DAYLIGHT
BEGIN:STANDARD
TZOFFSETFROM:+0200
TZOFFSETTO:+0100
TZNAME:CET
DTSTART:20231029T010000
END:STANDARD
END:VTIMEZONE
BEGIN:VEVENT
DTSTART;TZID=Europe/Amsterdam:20220528T193000
DTEND;TZID=Europe/Amsterdam:20220528T210000
DTSTAMP:20260420T160638
CREATED:20220526T083311Z
LAST-MODIFIED:20220526T083728Z
UID:4076-1653766200-1653771600@www.lukasfrankenstein.com
SUMMARY:Spektakl teatralny "Emigranci" S. Mrożka w Hadze\, Holandia.
DESCRIPTION:Jako emigrant jadę do teatru w Hadze. Zamierzam spojrzeć na losy emigracji oczami Mrożka z lat 70-tych XX-wieku w przełożeniu na XXI wiek w obserwacji polskiej reżyserki Hanna Grosfeld-Buda.\n\n„EMIGRANCI” S.Mrożka w Hadze!\nPremiera 28 maja 2022 o godz.19.30 w Zeeheldentheater.\nWięcej o wydarzniu tutaj: magischegrenzen.nl/emigranci
URL:https://www.lukasfrankenstein.com/event/spektakl-teatralny-emigranci-s-mrozka-w-hadze-holandia/
END:VEVENT
END:VCALENDAR