BEGIN:VCALENDAR
VERSION:2.0
PRODID:-//Wydawnictwo Lukas Frankenstein - ECPv6.15.20//NONSGML v1.0//EN
CALSCALE:GREGORIAN
METHOD:PUBLISH
X-WR-CALNAME:Wydawnictwo Lukas Frankenstein
X-ORIGINAL-URL:https://www.lukasfrankenstein.com
X-WR-CALDESC:Wydarzenia dla Wydawnictwo Lukas Frankenstein
REFRESH-INTERVAL;VALUE=DURATION:PT1H
X-Robots-Tag:noindex
X-PUBLISHED-TTL:PT1H
BEGIN:VTIMEZONE
TZID:Europe/Amsterdam
BEGIN:DAYLIGHT
TZOFFSETFROM:+0100
TZOFFSETTO:+0200
TZNAME:CEST
DTSTART:20240331T010000
END:DAYLIGHT
BEGIN:STANDARD
TZOFFSETFROM:+0200
TZOFFSETTO:+0100
TZNAME:CET
DTSTART:20241027T010000
END:STANDARD
BEGIN:DAYLIGHT
TZOFFSETFROM:+0100
TZOFFSETTO:+0200
TZNAME:CEST
DTSTART:20250330T010000
END:DAYLIGHT
BEGIN:STANDARD
TZOFFSETFROM:+0200
TZOFFSETTO:+0100
TZNAME:CET
DTSTART:20251026T010000
END:STANDARD
BEGIN:DAYLIGHT
TZOFFSETFROM:+0100
TZOFFSETTO:+0200
TZNAME:CEST
DTSTART:20260329T010000
END:DAYLIGHT
BEGIN:STANDARD
TZOFFSETFROM:+0200
TZOFFSETTO:+0100
TZNAME:CET
DTSTART:20261025T010000
END:STANDARD
END:VTIMEZONE
BEGIN:VEVENT
DTSTART;TZID=Europe/Amsterdam:20250401T200000
DTEND;TZID=Europe/Amsterdam:20250401T220000
DTSTAMP:20260424T072305
CREATED:20250331T152345Z
LAST-MODIFIED:20250331T153738Z
UID:16578-1743537600-1743544800@www.lukasfrankenstein.com
SUMMARY:#53 Poszukiwania Szlacheckich Nazwisk i Herbów
DESCRIPTION:🔍 Sprawdzam czy Twoje nazwisko\, które podajesz w komentarzu\, ma pochodzenie szlacheckie\, herb🛡️ oraz przedstawiam jego legendę\, gdy tylko go odnajdę 😉.\n🤠 Nazywam się Łukasz Przelaskowski\, jestem z wykształcenia mgr historii i piątym w kolejności archiwistą rodu Przelaskowskich herbu Szreniawa\, o których historii oraz archiwach obroniłem pracę magisterską. Badaniami genealogicznymi i heraldycznymi zajmuję się już od ponad dwudziestu lat. \n⚠️ Podstawową regułą przystąpienia do zgłoszenia jest: \n📲 1. OBSERWACJA kanału TikTok: lukasprzelaskowski. \n📲 2. SUBSKRYPCJA kanału YouTube: Okiem pisarza i tam podanie poszukiwanego nazwiska w l.poj. r. męskim. \n❤️ 3. Wsparcie projektu otwarcia Radia online Lukas Frankenstein: \n💰A. Wpłata na zrzutkę 4Fund.com\, gdzie możesz wybrać opcję pobrania jednego z trzech e-booków: \n☕️B. Postawienie kawy: Buy Me A Coffee \n📚 C. Zakup książki\, e-booka lub innego produktu ze sklepiku wydawnictwa Lukas Frankenstein \n📲 D. Subskrypcji odpłatnej TikToka: Lukas Przelaskowski \nNajwartościowszą formą wymiany jest wiedza za wiedzę\, którą możemy przekazywać kolejnym pokoleniom. \n🔸Kiedy: w każdy wtorek \n🔸O której: 20:00 \, czas EU – Amsterdam/Warszawa \n🔸Gdzie: \n🔴 YouTube: Okiem pisarza\, \n🔵 Facebook: Lukas Przelaskowski \n🟣 Twitch.TV: lukasprzelaskowski\,  \n⚫️ TikTok: lukasprzelaskowski\,  \n📚Linki do Zeszytów Genealogicznych w wydawnictwie Lukas Frankenstein\, gdzie w opisie są dodatkowe linki do Amazon z różnych krajów na świecie co ułatwi i przyśpieszy zamówienie dopasowując się do zleceniodawcy. \n📘 „Zeszyt Genealogiczny po Mieczu\, T. I”\, 📲\n📕„Zeszyt Genealogiczny po Kądzieli\, T. II” 📲 \n  \n🤝 Projekt pod patronem firmy: Lukas Frankenstein  \n⚠️Pozostałe projekty\, których stopniowo będzie przybywać i najlepsze znajdą się w ramówce przyszłego radia online firmy Lukas Frankenstein\, ich opis\, dni kiedy są realizowane znajdziesz w Kalendarzu Wydarzeń📲: \n👍 💚 Zapraszam do wsparcia poprzez obserwacje\, subskrypcje\, polubienia\, udostępnienia\, komentarze i pozostałe ww. \n🤔 Więcej o mnie: Biografia \n🤠 Z góry dziękuję i pozdrawiam Łukasz Przelaskowski – właściciel firmy Lukas Frankenstein\, niezależny dziennikarz. \n 
URL:https://www.lukasfrankenstein.com/event/53-poszukiwania-szlacheckich-nazwisk-i-herbow/
LOCATION:Streamin live online – 🔎Poszukiwania 🌳Szlacheckich Nazwisk i Herbów🛡️\, Netherlands
ATTACH;FMTTYPE=image/png:https://www.lukasfrankenstein.com/wp-content/uploads/2025/03/53-Poszukiwanie-Szlacheckich-Nazwisk-i-Herbow.png
END:VEVENT
BEGIN:VEVENT
DTSTART;TZID=Europe/Amsterdam:20250331T200000
DTEND;TZID=Europe/Amsterdam:20250331T210000
DTSTAMP:20260424T072305
CREATED:20250331T000103Z
LAST-MODIFIED:20250331T153842Z
UID:16540-1743451200-1743454800@www.lukasfrankenstein.com
SUMMARY:#2 Czytelnia - Przygody Borwara\, r. VI
DESCRIPTION:⭐️📚Czytelnia to poniedziałkowa audycja dla miłośników książek\, w której pisarz Łukasz Przelaskowski czyta pozycje literackie i poezję swojego autorstwa jak i inne dzieła\, które również ceni. \n💚Usiądź wygodnie w fotelu bądź połóż się w łóżku i oddaj magii słów oraz swojej wyobraźni z kawą czy też ciepłą czekoladą w ręku. \n🎙️Czytam: Przygody Borwara\, Potomek klanu Atlantis\, T. I. Rozdziały: IV\, V \n🔸Kiedy: w każdy poniedziałek \n🔸O której: 20:00 \, czas EU – Amsterdam/Warszawa \n🔸Gdzie: \n🔴 YouTube: Okiem pisarza\, \n⚫️ TikTok: Lukas Przelaskowski \n🔵 Facebook: Lukas Przelaskowski \n🟣 Twitch.TV: Lukas Przelaskowski \n🟡 Linkedin: Lukas Przelaskowski \n🤝 Projekt pod patronem firmy: Lukas Frankenstein \n⭐️ Cel projektu: Otwarcie Radia Online Lukas Frankenstein\, w którym pojawi się m.in. taka audycja.\n❤️ Możesz pomóc wesprzeć cel poprzez m.in.: \n💰 1. Wpłatę na zrzutkę 4Fund.com\, gdzie możesz wybrać opcję pobrania jednego z trzech e-booków. \n☕️ 2.Postawienie kawy pobierając jednocześnie e-booka: Buy Me A Coffee \n📚 3. Zakup książki\, e-booka lub innego produktu ze sklepiku wydawnictwa Lukas Frankenstein: Lukas Frankenstein \n📲 4. Subskrypcji odpłatnej TikToka: Lukas Przelaskowski \n⚠️Pozostałe projekty\, których stopniowo będzie przybywać i najlepsze znajdą się w ramówce przyszłego radia online firmy Lukas Frankenstein\, ich opis\, dni kiedy są realizowane znajdziesz w Kalendarzu Wydarzeń📲 \n👍 💚 Zapraszam do dodatkowego wsparcia poprzez obserwacje\, subskrypcje\, polubienia\, udostępnienia na waszych SM oraz znajomym na Messengerze\, WhatsAppie i innych komunikatorach\, kulturalne komentarze zawsze mile widziane.  \n🤠 Z góry dziękuję i pozdrawiam Łukasz Przelaskowski – właściciel firmy Lukas Frankenstein\, niezależny dziennikarz. \n🤔 Więcej o mnie: Biografia
URL:https://www.lukasfrankenstein.com/event/2-czytelnia-przygody-borwara-r-vi/
LOCATION:Czytelnia – pisarz czyta książki oraz poezję\, Netherlands
ATTACH;FMTTYPE=image/png:https://www.lukasfrankenstein.com/wp-content/uploads/2025/03/3.-Czytelnia.png
END:VEVENT
BEGIN:VEVENT
DTSTART;TZID=Europe/Amsterdam:20250328T200000
DTEND;TZID=Europe/Amsterdam:20250328T210000
DTSTAMP:20260424T072305
CREATED:20250324T133403Z
LAST-MODIFIED:20250324T134134Z
UID:16534-1743192000-1743195600@www.lukasfrankenstein.com
SUMMARY:#5 Social Media News
DESCRIPTION:⭐️ Social Media to Newsy ze świata social mediów\, porady\, wskazówki\, ich zastosowanie prywatnie lub firmowo oraz inne ciekawostki. \n🔸Kiedy: w każdy piątek \n🔸O której: 20:00 \, czas EU – Amsterdam \n🔸Gdzie:  \n🔴 YouTube: Okiem pisarza\, \n⚫️ TikTok: Lukas Przelaskowski \n🔵 Facebook: Innowacyjne Wynalazki \n🟣 Twitch.TV: Lukas Przelaskowski \n🟡 Linkedin: Lukas Przelaskowski \n🤝 Projekt pod patronem firmy: Lukas Frankenstein \n⭐️ Cel projektu: Otwarcie Radia Online Lukas Frankenstein\, w którym pojawi się m.in. taka audycja.\n❤️ Możesz pomóc wesprzeć cel poprzez m.in.: \n💰 1. Wpłatę na zrzutkę 4Fund.com\, gdzie możesz wybrać opcję pobrania jednego z trzech e-booków. \n☕️ 2.Postawienie kawy pobierając jednocześnie e-booka: Buy Me A Coffee \n📚 3. Zakup książki\, e-booka lub innego produktu ze sklepiku wydawnictwa Lukas Frankenstein: Lukas Frankenstein \n📲 4. Subskrypcji odpłatnej TikToka: Lukas Przelaskowski \n⚠️Pozostałe projekty\, których stopniowo będzie przybywać i najlepsze znajdą się w ramówce przyszłego radia online firmy Lukas Frankenstein\, ich opis\, dni kiedy są realizowane znajdziesz w Kalendarzu Wydarzeń📲 \n👍 💚 Zapraszam do dodatkowego wsparcia poprzez obserwacje\, subskrypcje\, polubienia\, udostępnienia na waszych SM oraz znajomym na Messengerze\, WhatsAppie i innych komunikatorach\, kulturalne komentarze zawsze mile widziane.  \n🤠 Z góry dziękuję i pozdrawiam Łukasz Przelaskowski – właściciel firmy Lukas Frankenstein\, niezależny dziennikarz. \n🤔 Więcej o mnie: Biografia \n🤝 Wsparcie:  @ZrzutkaPl   @4fundcom   @BuyMeaCoffee  🎙️ \nNowość w streamingu lub chcesz przejść na wyższy poziom? Sprawdź StreamYard i zdobądź 10$ zniżki!😍   @StreamYard 
URL:https://www.lukasfrankenstein.com/event/5-social-media-news/
LOCATION:Social Media News\, Netherlands
ATTACH;FMTTYPE=image/png:https://www.lukasfrankenstein.com/wp-content/uploads/2025/03/5.-Social-Media-News.png
END:VEVENT
BEGIN:VEVENT
DTSTART;TZID=Europe/Amsterdam:20250326T200000
DTEND;TZID=Europe/Amsterdam:20250326T210000
DTSTAMP:20260424T072305
CREATED:20250324T125057Z
LAST-MODIFIED:20250324T134541Z
UID:16524-1743019200-1743022800@www.lukasfrankenstein.com
SUMMARY:#6 Kosmos i Jego Tajemnice
DESCRIPTION:💡Newsy ze świata kosmicznego 🚀NASA\, 🛰️ESA\, 🛸Space X i inne ciekawostki. \n🔸Kiedy: w każdą środę \n🔸O której: 20:00 \, czas EU – Amsterdam \n🔸Gdzie:  \n🔴 YouTube: Okiem pisarza\, \n⚫️ TikTok: Lukas Przelaskowski \n🔵 Facebook: Kosmos i Jego Tajemnice \n🟣 Twitch.TV: Lukas Przelaskowski \n🟡 Linkedin: Lukas Przelaskowski \n🤝 Projekt pod patronem firmy: Lukas Frankenstein \n⭐️ Cel projektu: Otwarcie Radia Online Lukas Frankenstein\, w którym pojawi się m.in. taka audycja.\n❤️ Możesz pomóc wesprzeć cel poprzez m.in.: \n💰 1. Wpłatę na zrzutkę 4Fund.com\, gdzie możesz wybrać opcję pobrania jednego z trzech e-booków. \n☕️ 2.Postawienie kawy pobierając jednocześnie e-booka: Buy Me A Coffee \n📚 3. Zakup książki\, e-booka lub innego produktu ze sklepiku wydawnictwa Lukas Frankenstein: Lukas Frankenstein \n📲 4. Subskrypcji odpłatnej TikToka: Lukas Przelaskowski \n⚠️Pozostałe projekty\, których stopniowo będzie przybywać i najlepsze znajdą się w ramówce przyszłego radia online firmy Lukas Frankenstein\, ich opis\, dni kiedy są realizowane znajdziesz w Kalendarzu Wydarzeń📲 \n👍 💚 Zapraszam do dodatkowego wsparcia poprzez obserwacje\, subskrypcje\, polubienia\, udostępnienia na waszych SM oraz znajomym na Messengerze\, WhatsAppie i innych komunikatorach\, kulturalne komentarze zawsze mile widziane.  \n🤠 Z góry dziękuję i pozdrawiam Łukasz Przelaskowski – właściciel firmy Lukas Frankenstein\, niezależny dziennikarz. \n🤔 Więcej o mnie: Biografia \n🤝 Wsparcie:  @ZrzutkaPl   @4fundcom   @BuyMeaCoffee  🎙️ \nNowość w streamingu lub chcesz przejść na wyższy poziom? Sprawdź StreamYard i zdobądź 10$ zniżki!😍   @StreamYard ​
URL:https://www.lukasfrankenstein.com/event/6-kosmos-i-jego-tajemnice/
LOCATION:Kosmos i Jego Tajemnice\, Netherlands
ATTACH;FMTTYPE=image/png:https://www.lukasfrankenstein.com/wp-content/uploads/2025/03/6-Kosmos-i-jego-tajemnice.png
END:VEVENT
BEGIN:VEVENT
DTSTART;TZID=Europe/Amsterdam:20250325T200000
DTEND;TZID=Europe/Amsterdam:20250325T220000
DTSTAMP:20260424T072305
CREATED:20250324T124055Z
LAST-MODIFIED:20250324T134806Z
UID:16516-1742932800-1742940000@www.lukasfrankenstein.com
SUMMARY:#52 Poszukiwania Szlacheckich Nazwisk i Herbów
DESCRIPTION:🔍 Sprawdzam czy Twoje nazwisko\, które podajesz w komentarzu\, ma pochodzenie szlacheckie\, herb🛡️ oraz przedstawiam jego legendę\, gdy tylko go odnajdę 😉.\n🤠 Nazywam się Łukasz Przelaskowski\, jestem z wykształcenia mgr historii i piątym w kolejności archiwistą rodu Przelaskowskich herbu Szreniawa\, o których historii oraz archiwach obroniłem pracę magisterską. Badaniami genealogicznymi i heraldycznymi zajmuję się już od ponad dwudziestu lat. \n⚠️ Podstawową regułą przystąpienia do zgłoszenia jest: \n📲 1. OBSERWACJA kanału TikTok: lukasprzelaskowski. \n📲 2. SUBSKRYPCJA kanału YouTube: Okiem pisarza i tam podanie poszukiwanego nazwiska w l.poj. r. męskim. \n❤️ 3. Wsparcie projektu otwarcia Radia online Lukas Frankenstein: \n💰A. Wpłata na zrzutkę 4Fund.com\, gdzie możesz wybrać opcję pobrania jednego z trzech e-booków: \n☕️B. Postawienie kawy: Buy Me A Coffee \n📚 C. Zakup książki\, e-booka lub innego produktu ze sklepiku wydawnictwa Lukas Frankenstein \n📲 D. Subskrypcji odpłatnej TikToka: Lukas Przelaskowski \nNajwartościowszą formą wymiany jest wiedza za wiedzę\, którą możemy przekazywać kolejnym pokoleniom. \n🔸Kiedy: w każdy wtorek \n🔸O której: 20:00 \, czas EU – Amsterdam/Warszawa \n🔸Gdzie: \n🔴 YouTube: Okiem pisarza\, \n🔵 Facebook: Lukas Przelaskowski \n🟣 Twitch.TV: lukasprzelaskowski\,  \n⚫️ TikTok: lukasprzelaskowski\,  \n📚Linki do Zeszytów Genealogicznych w wydawnictwie Lukas Frankenstein\, gdzie w opisie są dodatkowe linki do Amazon z różnych krajów na świecie co ułatwi i przyśpieszy zamówienie dopasowując się do zleceniodawcy. \n📘 „Zeszyt Genealogiczny po Mieczu\, T. I”\, 📲\n📕„Zeszyt Genealogiczny po Kądzieli\, T. II” 📲 \n  \n🤝 Projekt pod patronem firmy: Lukas Frankenstein  \n⚠️Pozostałe projekty\, których stopniowo będzie przybywać i najlepsze znajdą się w ramówce przyszłego radia online firmy Lukas Frankenstein\, ich opis\, dni kiedy są realizowane znajdziesz w Kalendarzu Wydarzeń📲: \n👍 💚 Zapraszam do wsparcia poprzez obserwacje\, subskrypcje\, polubienia\, udostępnienia\, komentarze i pozostałe ww. \n🤔 Więcej o mnie: Biografia \n🤠 Z góry dziękuję i pozdrawiam Łukasz Przelaskowski – właściciel firmy Lukas Frankenstein\, niezależny dziennikarz. \n 
URL:https://www.lukasfrankenstein.com/event/52-poszukiwania-szlacheckich-nazwisk-i-herbow/
LOCATION:Streamin live online – 🔎Poszukiwania 🌳Szlacheckich Nazwisk i Herbów🛡️\, Netherlands
ATTACH;FMTTYPE=image/png:https://www.lukasfrankenstein.com/wp-content/uploads/2025/03/52-Poszukiwanie-Szlacheckich-Nazwisk-i-Herbow.png
END:VEVENT
BEGIN:VEVENT
DTSTART;TZID=Europe/Amsterdam:20250324T200000
DTEND;TZID=Europe/Amsterdam:20250324T210000
DTSTAMP:20260424T072305
CREATED:20250324T122336Z
LAST-MODIFIED:20250330T235839Z
UID:16512-1742846400-1742850000@www.lukasfrankenstein.com
SUMMARY:#2 Czytelnia - Przygody Borwara\, r. IV\, V
DESCRIPTION:⭐️📚Czytelnia to poniedziałkowa audycja dla miłośników książek\, w której pisarz Łukasz Przelaskowski czyta pozycje literackie i poezję swojego autorstwa jak i inne dzieła\, które również ceni. \n💚Usiądź wygodnie w fotelu bądź połóż się w łóżku i oddaj magii słów oraz swojej wyobraźni z kawą czy też ciepłą czekoladą w ręku. \n🎙️Czytam: Przygody Borwara\, Potomek klanu Atlantis\, T. I. Rozdziały: IV\, V \n🔸Kiedy: w każdy poniedziałek \n🔸O której: 20:00 \, czas EU – Amsterdam/Warszawa \n🔸Gdzie: \n🔴 YouTube: Okiem pisarza\, \n⚫️ TikTok: Lukas Przelaskowski \n🔵 Facebook: Lukas Przelaskowski \n🟣 Twitch.TV: Lukas Przelaskowski \n🟡 Linkedin: Lukas Przelaskowski \n🤝 Projekt pod patronem firmy: Lukas Frankenstein \n⭐️ Cel projektu: Otwarcie Radia Online Lukas Frankenstein\, w którym pojawi się m.in. taka audycja.\n❤️ Możesz pomóc wesprzeć cel poprzez m.in.: \n💰 1. Wpłatę na zrzutkę 4Fund.com\, gdzie możesz wybrać opcję pobrania jednego z trzech e-booków. \n☕️ 2.Postawienie kawy pobierając jednocześnie e-booka: Buy Me A Coffee \n📚 3. Zakup książki\, e-booka lub innego produktu ze sklepiku wydawnictwa Lukas Frankenstein: Lukas Frankenstein \n📲 4. Subskrypcji odpłatnej TikToka: Lukas Przelaskowski \n⚠️Pozostałe projekty\, których stopniowo będzie przybywać i najlepsze znajdą się w ramówce przyszłego radia online firmy Lukas Frankenstein\, ich opis\, dni kiedy są realizowane znajdziesz w Kalendarzu Wydarzeń📲 \n👍 💚 Zapraszam do dodatkowego wsparcia poprzez obserwacje\, subskrypcje\, polubienia\, udostępnienia na waszych SM oraz znajomym na Messengerze\, WhatsAppie i innych komunikatorach\, kulturalne komentarze zawsze mile widziane.  \n🤠 Z góry dziękuję i pozdrawiam Łukasz Przelaskowski – właściciel firmy Lukas Frankenstein\, niezależny dziennikarz. \n🤔 Więcej o mnie: Biografia
URL:https://www.lukasfrankenstein.com/event/2-czytelnia-przygody-borwara-r-iv/
LOCATION:Czytelnia – pisarz czyta książki oraz poezję\, Netherlands
ATTACH;FMTTYPE=image/png:https://www.lukasfrankenstein.com/wp-content/uploads/2025/03/2.-Czytelnia.png
END:VEVENT
BEGIN:VEVENT
DTSTART;TZID=Europe/Amsterdam:20250225T200000
DTEND;TZID=Europe/Amsterdam:20250225T220000
DTSTAMP:20260424T072305
CREATED:20250517T134628Z
LAST-MODIFIED:20250517T141748Z
UID:17010-1740513600-1740520800@www.lukasfrankenstein.com
SUMMARY:#49 Poszukiwanie Szlacheckich Nazwisk i Herbów
DESCRIPTION:🔍W dzisiejszym #49 live szukam nazwisk pod kątem czy mają korzenie szlacheckie oraz herb🛡. \nSprawdzone nazwiska podane są pod każdym odcinkiem w opisie. \n🤠 Nazywam się Łukasz Przelaskowski\, jestem z wykształcenia mgr historii i piątym w kolejności archiwistą rodu Przelaskowskich herbu Szreniawa\, o których historii oraz archiwach obroniłem pracę magisterską. Badaniami genealogicznymi i heraldycznymi zajmuję się już od ponad dwudziestu lat. \n⚠️ Podstawową regułą przystąpienia do zgłoszenia jest: \n📲 1. OBSERWACJA kanału TikTok: lukasprzelaskowski. \n📲 2. SUBSKRYPCJA kanału YouTube: Okiem pisarza i tam podanie poszukiwanego nazwiska w l. poj. r. męskim. \n❤️ 3. Wsparcie projektu otwarcia Radia online Lukas Frankenstein: \n💰 A. Wpłata na zrzutkę\, gdzie możesz wybrać opcję pobrania jednego z trzech e-booków 4Fund.com \n☕️ B. Postawienie kawy Buy Me A Coffee \n📚 C. Zakup książki\, e-booka lub innego produktu ze sklepiku wydawnictwa Lukas Frankenstein: www.lukasfrankenstein.com/sklep/ \n📲 D. Subskrypcji odpłatnej TikToka \n🎬 E. Wsparcia odpłatnego YouTube – Okiem pisarza (pod każdym filmem na dole jest przycisk: WESPRZYJ): Najwartościowszą formą wymiany jest wiedza za wiedzę\, którą możemy przekazywać kolejnym pokoleniom. \n🔸Kiedy: w każdy wtorek \n🔸O której: 20:00-22:00 \, czas EU – Amsterdam \n🔸Gdzie: \n🔴 YouTube: Okiem pisarza\, \n🔵 Facebook: Lukas Przelaskowski \n🟣 Twitch.TV: lukasprzelaskowski\, \n⚫️ TikTok: lukasprzelaskowski\, \n🟡 Linkedin: Lukasz Przelaskowski \n⭐️ Cel projektu: otwarcie Radia Online Lukas Frankenstein\, w którym pojawi się m.in. taka audycja. \n🤝 Projekt pod patronem firmy: Lukas Frankenstein www.lukasfrankenstein.com \n⚠️ Pozostałe projekty\, których stopniowo będzie przybywać i najlepsze znajdą się w ramówce przyszłego radia online firmy Lukas Frankenstein\, ich opis\, dni kiedy są realizowane znajdziesz w Kalendarzu Wydarzeń 👍. \n💡Polecam kurs genealogiczny i wydania historyczno-naukowe mojego autorstwa w Szkole Genealogicznej Łukasza Przelaskowskiego\, które pomogą m.in. w zrozumieniu heraldyki\, genealogii\, poszukiwaniu przodków\, archiwizacji rodzinnych korzeni\, tworzeniu drzewa genealogicznego. \nI. 💡Kurs Genealogiczny Online w Szkole Genealogicznej Łukasza Przelaskowskiego \n🍀 Skład kompletu\, który do Kursu Genealogicznego trzeba dokupić osobno:  \nII.📙 „Historia Polskich i Litewskich Herbów W Świetle Archiwum Rodzinnego Rodu Przelaskowskich Herbu Szreniawa\, T. I” (Książka dostępna na Amazon\, linki do każdego Amazon na świecie podane w opsie na stronie wydawnictwa) \n III. 📚Linki do Zeszytów Genealogicznych w wydawnictwie Lukas Frankenstein\, gdzie w opisie są dodatkowe linki do Amazon z różnych krajów na świecie co ułatwi i przyśpieszy zamówienie dopasowując się do zleceniodawcy. \n 1.📘 „Zeszyt Genealogiczny po Mieczu\, T. I”\, \n2.📕„Zeszyt Genealogiczny po Kądzieli\, T. II”\, \n💚 Zapraszam do wsparcia poprzez obserwacje\, subskrypcje\, polubienia\, udostępnienia\, komentarze i pozostałe ww.  \n🤠 Z góry dziękuję i pozdrawiam Łukasz Przelaskowski – właściciel firmy Lukas Frankenstein\, niezależny dziennikarz. \n🤔 Więcej o mnie w BIOGRAFII 
URL:https://www.lukasfrankenstein.com/event/49-poszukiwanie-szlacheckich-nazwisk-i-herbow/
LOCATION:Streamin live online – 🔎Poszukiwania 🌳Szlacheckich Nazwisk i Herbów🛡️\, Netherlands
ATTACH;FMTTYPE=image/png:https://www.lukasfrankenstein.com/wp-content/uploads/2025/05/49-Poszukiwanie-Szlacheckich-Nazwisk-i-Herbow.png
END:VEVENT
END:VCALENDAR