BEGIN:VCALENDAR
VERSION:2.0
PRODID:-//Wydawnictwo Lukas Frankenstein - ECPv6.15.20//NONSGML v1.0//EN
CALSCALE:GREGORIAN
METHOD:PUBLISH
X-WR-CALNAME:Wydawnictwo Lukas Frankenstein
X-ORIGINAL-URL:https://www.lukasfrankenstein.com
X-WR-CALDESC:Wydarzenia dla Wydawnictwo Lukas Frankenstein
REFRESH-INTERVAL;VALUE=DURATION:PT1H
X-Robots-Tag:noindex
X-PUBLISHED-TTL:PT1H
BEGIN:VTIMEZONE
TZID:Europe/Amsterdam
BEGIN:DAYLIGHT
TZOFFSETFROM:+0100
TZOFFSETTO:+0200
TZNAME:CEST
DTSTART:20240331T010000
END:DAYLIGHT
BEGIN:STANDARD
TZOFFSETFROM:+0200
TZOFFSETTO:+0100
TZNAME:CET
DTSTART:20241027T010000
END:STANDARD
BEGIN:DAYLIGHT
TZOFFSETFROM:+0100
TZOFFSETTO:+0200
TZNAME:CEST
DTSTART:20250330T010000
END:DAYLIGHT
BEGIN:STANDARD
TZOFFSETFROM:+0200
TZOFFSETTO:+0100
TZNAME:CET
DTSTART:20251026T010000
END:STANDARD
BEGIN:DAYLIGHT
TZOFFSETFROM:+0100
TZOFFSETTO:+0200
TZNAME:CEST
DTSTART:20260329T010000
END:DAYLIGHT
BEGIN:STANDARD
TZOFFSETFROM:+0200
TZOFFSETTO:+0100
TZNAME:CET
DTSTART:20261025T010000
END:STANDARD
END:VTIMEZONE
BEGIN:VEVENT
DTSTART;TZID=Europe/Amsterdam:20250901T200000
DTEND;TZID=Europe/Amsterdam:20250901T210000
DTSTAMP:20260424T122444
CREATED:20250831T143306Z
LAST-MODIFIED:20250831T150839Z
UID:17384-1756756800-1756760400@www.lukasfrankenstein.com
SUMMARY:#21 Audycja: Czytelnia\, Żadnych Bogów\, Żadnych Panów\, Grzegorz Dziedzic\, r. 1
DESCRIPTION:⭐️ #21 📚 Czytelnia to poniedziałkowa audycja dla miłośników książek\, w której pisarz Łukasz Przelaskowski czyta pozycje literackie i poezję swojego autorstwa jak i inne dzieła\, które również ceni. ⭐️ Cel projektu: otwarcie Radia Online Lukas Frankenstein\, w którym pojawi się m.in. taka audycja. \n💚 Usiądź wygodnie w fotelu bądź połóż się w łóżku i oddaj magii słów oraz swojej wyobraźni z kawą czy też ciepłą czekoladą w ręku. \n🎙️Czytam: Żadnych Bogów\, Żadnych Panów\, Grzegorz Dziedzic\, Wydawnictwo Agora\, Warszawa 2023\, r. 1  \nCzytam rozdział: 1 – \n🔸Kiedy: w każdy poniedziałek \n🔸O której: 20:00 \, czas EU – Amsterdam/Warszawa \n🔸Gdzie: \n🔴 YouTube: Okiem pisarza\, \n⚫️ TikTok: Lukas Przelaskowski \n🔵 Facebook: Lukas Przelaskowski \n🟣 Twitch.TV: Lukas Przelaskowski \n🟡 Linkedin: Lukas Przelaskowski  \n🟢 Kick: LukasPrzelaskowski \n⚪️ Rumble: Przelaskowski \n⭐️ Cel projektu: Otwarcie Radia Online Lukas Frankenstein\, w którym pojawi się m.in. taka audycja.\n  \n❤️ Możesz pomóc wesprzeć cel poprzez m.in.: \n💰 1. Wpłatę min. 5 EU na zrzutkę 4Fund.com\, gdzie możesz wybrać opcję pobrania jednego z trzech e-booków. \n☕️ 2. Postawienie kawy min. 5 EU w dowolnej walucie pobierając jednocześnie wybranego e-booka: BuyMeACoffee.com \n☕️ 3. Postawienie kawy w PL przez BLIK min 20 zł na Suppi.pl \n📚 4. Zakup książki\, e-booka lub innego produktu ze sklepiku wydawnictwa Lukas Frankenstein: Lukas Frankenstein \n📲 5. Subskrypcji odpłatnej TikToka: Lukas Przelaskowski \n🎬 6. Wsparcia odpłatnego YouTube: Okiem pisarza ( przycisk WESPRZYJ dostępny na dole pod każdym filmem) \n  \n🤝 Projekt pod patronem firm: Lukas Frankenstein \n⚠️Pozostałe projekty\, których stopniowo będzie przybywać i najlepsze znajdą się w ramówce przyszłego radia online firmy Lukas Frankenstein\, ich opis\, dni kiedy są realizowane znajdziesz w Kalendarzu Wydarzeń📲 \n👍 💚 Zapraszam do dodatkowego wsparcia poprzez obserwacje\, subskrypcje\, polubienia\, udostępnienia na waszych SM oraz znajomym na Messengerze\, WhatsAppie i innych komunikatorach\, kulturalne komentarze zawsze mile widziane.  \n🤠 Z góry dziękuję i pozdrawiam Łukasz Przelaskowski – właściciel firmy Lukas Frankenstein\, niezależny dziennikarz. \n🤔 Więcej o mnie: Biografia
URL:https://www.lukasfrankenstein.com/event/21-audycja-czytelnia-zadnych-bogow-zadnych-panow-grzegorz-dziedzic-r-1/
LOCATION:Czytelnia – pisarz czyta książki oraz poezję\, Netherlands
ATTACH;FMTTYPE=image/png:https://www.lukasfrankenstein.com/wp-content/uploads/2025/08/21.-Czytelnia.png
END:VEVENT
END:VCALENDAR